BEGIN:VCALENDAR
VERSION:2.0
PRODID:-//Plone Evento ICS//EN
BEGIN:VEVENT
UID:ca11202b88d4485cbfffbf80391c95c9
DTSTAMP:20260421T081901Z
DTSTART:20260315T110000
SUMMARY:Incontro con Andrea Kerbaker
DESCRIPTION:Andrea Kerbaker presenta Casa, dolce casa con Giovanna Canzi.\nhttps://www.guanda.it/eventi/incontro-con-andrea-kerbaker-8
LOCATION:Libreria Libri e Libri - Libreria Libri e Libri<br>Via Italia 22 - 20900 Monza (MB)
URL:https://www.guanda.it/eventi/incontro-con-andrea-kerbaker-8
END:VEVENT
END:VCALENDAR