BEGIN:VCALENDAR
VERSION:2.0
PRODID:-//Plone Evento ICS//EN
BEGIN:VEVENT
UID:1ede48bfd713479d9ff8d0cd532a2532
DTSTAMP:20260421T094442Z
DTSTART:20260318T203000
SUMMARY:Incontro con Bruno Arpaia
DESCRIPTION:Bruno Arpaia presenta Il mondo senza inverno in occasione del Festival Lectura Mundi con Carlo Lucarelli.\nhttps://www.guanda.it/eventi/incontro-con-bruno-arpaia-15
LOCATION:Oratorio di San Filippo Neri - Oratorio di San Filippo Neri<br>Via Manzoni 5 - 40121 Bologna (BO)
URL:https://www.guanda.it/eventi/incontro-con-bruno-arpaia-15
END:VEVENT
END:VCALENDAR