BEGIN:VCALENDAR
VERSION:2.0
PRODID:-//Plone Evento ICS//EN
BEGIN:VEVENT
UID:106d47f4d2ee435385f06f3f20d25e1c
DTSTAMP:20260421T094453Z
DTSTART:20260516T163000
SUMMARY:Incontro con Bruno Arpaia
DESCRIPTION:Bruno Arpaia presenta Il mondo senza inverno all'interno del programma Salone OFF. Modera: gruppo #piobesichelegge e vicesindaca Elena Mattio.\nhttps://www.guanda.it/eventi/incontro-con-bruno-arpaia-19
LOCATION:Ex Refettorio del Convento dei Frati Minori - Ex Refettorio del Convento dei Frati Minori<br>Vicolo Michelangelo Albertini 18 - 10040 Piobesi Torinese (TO)
URL:https://www.guanda.it/eventi/incontro-con-bruno-arpaia-19
END:VEVENT
END:VCALENDAR