BEGIN:VCALENDAR
VERSION:2.0
PRODID:-//Plone Evento ICS//EN
BEGIN:VEVENT
UID:1792b288b15340ca86cc0f0f8f1bf27c
DTSTAMP:20260421T090628Z
DTSTART:20260515T183000
SUMMARY:Incontro con Elena Varvello
DESCRIPTION:Elena Varvello presenta La vita sempre.\nhttps://www.guanda.it/eventi/incontro-con-elena-varvello-17
LOCATION:L'Altra Libreria di A. Manzoni & C. - L'Altra Libreria di A. Manzoni & C.<br>Via Aldo Annoni 32 - 20081 Abbiategrasso (MI)
URL:https://www.guanda.it/eventi/incontro-con-elena-varvello-17
END:VEVENT
END:VCALENDAR