BEGIN:VCALENDAR
VERSION:2.0
PRODID:-//Plone Evento ICS//EN
BEGIN:VEVENT
UID:3acea82022e64f1d90b73bf27932753a
DTSTAMP:20260420T135801Z
DTSTART:20260329T173000
SUMMARY:Incontro con Giada Messina Cuti
DESCRIPTION:Giada Messina Cuti presenta Tu vivi in dialogo con Mary B. Tolusso, in occasione di Monfalcone Geografie 2026, festival organizzato dal Comune di Monfalcone in collaborazione con Fondazione Pordenonelegge.it.\nhttps://www.guanda.it/eventi/incontro-con-giada-messina-cuti-2
LOCATION:Spazio Sud - Piazza della Repubblica - Monfalcone (GO) - Spazio Sud - Piazza della Repubblica - Monfalcone (GO)<br>Piazza della Repubblica - 34074 Monfalcone (GO)
URL:https://www.guanda.it/eventi/incontro-con-giada-messina-cuti-2
END:VEVENT
END:VCALENDAR