BEGIN:VCALENDAR
VERSION:2.0
PRODID:-//Plone Evento ICS//EN
BEGIN:VEVENT
UID:d283d21f4f974a10ba14f8c76c73aff3
DTSTAMP:20260422T101841Z
DTSTART:20260313T180000
SUMMARY:Incontro con Giada Messina Cuti
DESCRIPTION:Giada Messina Cuti presenta Tu vivi.\nhttps://www.guanda.it/eventi/incontro-con-giada-messina-cuti-3
LOCATION:Modusvivendi S.r.l. Libreria - Modusvivendi S.r.l. Libreria<br>Via Quintino Sella 79 - 90139 Palermo (PA)
URL:https://www.guanda.it/eventi/incontro-con-giada-messina-cuti-3
END:VEVENT
END:VCALENDAR