BEGIN:VCALENDAR
VERSION:2.0
PRODID:-//Plone Evento ICS//EN
BEGIN:VEVENT
UID:7ef8039be5964cf7ae3fa33b741959de
DTSTAMP:20260421T054321Z
DTSTART:20260515T190000
SUMMARY:Incontro con Ilaria Rossetti
DESCRIPTION:Ilaria Rossetti presenta Qualcuno da odiare in occasione del festival Festina lente di Seregno.\nhttps://www.guanda.it/eventi/incontro-con-ilaria-rossetti-20
LOCATION:Festina Lente Bistrot - Festina Lente Bistrot<br>Via alla Porada 20 - 20831 Seregno (MB)
URL:https://www.guanda.it/eventi/incontro-con-ilaria-rossetti-20
END:VEVENT
END:VCALENDAR