BEGIN:VCALENDAR
VERSION:2.0
PRODID:-//Plone Evento ICS//EN
BEGIN:VEVENT
UID:88c82ddba0314d4fafa7eb1d0318626d
DTSTAMP:20260423T145033Z
DTSTART:20260516T110000
SUMMARY:Incontro con Ilaria Rossetti
DESCRIPTION:Ilaria Rossetti presenta Qualcuno da odiare.\nhttps://www.guanda.it/eventi/incontro-con-ilaria-rossetti-21
LOCATION:Punto di servizio bibliotecario I ragazzi e le ragazze di Utøya - Punto di servizio bibliotecario I ragazzi e le ragazze di Utøya<br>Via Zumaglia 39 - 10145 Torino (TO)
URL:https://www.guanda.it/eventi/incontro-con-ilaria-rossetti-21
END:VEVENT
END:VCALENDAR