BEGIN:VCALENDAR
VERSION:2.0
PRODID:-//Plone Evento ICS//EN
BEGIN:VEVENT
UID:3bf28f72c2cc47e39afa9dee2603db24
DTSTAMP:20260424T145024Z
DTSTART:20260519T183000
SUMMARY:Incontro con Ilaria Rossetti
DESCRIPTION:Ilaria Rossetti presenta Qualcuno da odiare in dialogo con Marco Balzano.\nhttps://www.guanda.it/eventi/incontro-con-ilaria-rossetti-22
LOCATION:Libreria Ubik Monterosa 91 - Libreria Ubik Monterosa 91<br>Via Monte Rosa 91 - 20149 Milano (MI)
URL:https://www.guanda.it/eventi/incontro-con-ilaria-rossetti-22
END:VEVENT
END:VCALENDAR