BEGIN:VCALENDAR
VERSION:2.0
PRODID:-//Plone Evento ICS//EN
BEGIN:VEVENT
UID:9601f3670db04897a333ba9f1ae8290a
DTSTAMP:20260425T114424Z
DTSTART:20260520T180000
SUMMARY:Incontro con Ilaria Rossetti
DESCRIPTION:Ilaria Rossetti presenta Qualcuno da odiare.\nhttps://www.guanda.it/eventi/incontro-con-ilaria-rossetti-23
LOCATION:Libreria Rinascita Ubik - Libreria Rinascita Ubik<br>Via A. Gramsci 334 - 50019 Sesto Fiorentino (FI)
URL:https://www.guanda.it/eventi/incontro-con-ilaria-rossetti-23
END:VEVENT
END:VCALENDAR