BEGIN:VCALENDAR
VERSION:2.0
PRODID:-//Plone Evento ICS//EN
BEGIN:VEVENT
UID:fdc65de5f71f42119653a3ad0dd71c12
DTSTAMP:20260420T024721Z
DTSTART:20260421T180000
SUMMARY:Incontro con Marco Vichi
DESCRIPTION:Marco Vichi presenta Occhi di bambina all'interno del Premio Strega Tour.\nhttps://www.guanda.it/eventi/incontro-con-marco-vichi-20
LOCATION:Biblioteca Nelson Mandela - Biblioteca Nelson Mandela<br>Via La Spezia 21 - 00182 Roma (RM)
URL:https://www.guanda.it/eventi/incontro-con-marco-vichi-20
END:VEVENT
END:VCALENDAR