BEGIN:VCALENDAR
VERSION:2.0
PRODID:-//Plone Evento ICS//EN
BEGIN:VEVENT
UID:ac1210fe370f48efbc86bf4b8e209fe2
DTSTAMP:20260420T025320Z
DTSTART:20260426T180000
SUMMARY:Incontro con Marco Vichi
DESCRIPTION:Marco Vichi presenta Occhi di bambina all'interno del Premio Strega Tour.\nhttps://www.guanda.it/eventi/incontro-con-marco-vichi-21
LOCATION:Necropoli della Banditaccia - Necropoli della Banditaccia<br>Via della Necropoli 43/45 - 00052 Cerveteri (RM)
URL:https://www.guanda.it/eventi/incontro-con-marco-vichi-21
END:VEVENT
END:VCALENDAR