BEGIN:VCALENDAR
VERSION:2.0
PRODID:-//Plone Evento ICS//EN
BEGIN:VEVENT
UID:7309efe578284c0bbb1af93c89edabbe
DTSTAMP:20260420T023744Z
DTSTART:20260427T180000
SUMMARY:Incontro con Marco Vichi
DESCRIPTION:Marco Vichi presenta Occhi di bambina all'interno del Premio Strega Tour.\nhttps://www.guanda.it/eventi/incontro-con-marco-vichi-22
LOCATION:Palazzo M - Palazzo M<br>Corso della Repubblica 238 - 04100 Latina (LT)
URL:https://www.guanda.it/eventi/incontro-con-marco-vichi-22
END:VEVENT
END:VCALENDAR