BEGIN:VCALENDAR
VERSION:2.0
PRODID:-//Plone Evento ICS//EN
BEGIN:VEVENT
UID:31979c8a1355406b99522af89d9fa0ad
DTSTAMP:20260420T024630Z
DTSTART:20260424T173000
SUMMARY:Incontro con Simona Lo Iacono
DESCRIPTION:Simona Lo Iacono presenta Joanna degli incanti in occasione del Catania Book Festival.\nhttps://www.guanda.it/eventi/incontro-con-simona-lo-iacono-10
LOCATION:Auditorium Marchesi Palazzo della Cultura Catania - Auditorium Marchesi Palazzo della Cultura Catania<br>Via Vittorio Emanuele II 119 - 95131 Catania (CT)
URL:https://www.guanda.it/eventi/incontro-con-simona-lo-iacono-10
END:VEVENT
END:VCALENDAR