BEGIN:VCALENDAR
VERSION:2.0
PRODID:-//Plone Evento ICS//EN
BEGIN:VEVENT
UID:5412f94bc243471db10a6a5ca2f5ca1f
DTSTAMP:20260420T024553Z
DTSTART:20260426T173000
SUMMARY:Incontro con Simona Lo Iacono
DESCRIPTION:Simona Lo Iacono presenta Joanna degli incanti.\nhttps://www.guanda.it/eventi/incontro-con-simona-lo-iacono-11
LOCATION:Comune di Palazzolo Acreide - Comune di Palazzolo Acreide<br>Piazza del Popolo 1 - 96010 Palazzolo Acreide (SR)
URL:https://www.guanda.it/eventi/incontro-con-simona-lo-iacono-11
END:VEVENT
END:VCALENDAR