BEGIN:VCALENDAR
VERSION:2.0
PRODID:-//Plone Evento ICS//EN
BEGIN:VEVENT
UID:44c8864c4d054d3e9eb591b7d409990a
DTSTAMP:20260420T024300Z
DTSTART:20260430T183000
SUMMARY:Incontro con Simona Lo Iacono
DESCRIPTION:Simona Lo Iacono presenta Joanna degli incanti.\nhttps://www.guanda.it/eventi/incontro-con-simona-lo-iacono-12
LOCATION:Libreria Ubik Caltanissetta - Libreria Ubik Caltanissetta<br>Via John F. Kennedy 9 - 93100 Caltanissetta (CL)
URL:https://www.guanda.it/eventi/incontro-con-simona-lo-iacono-12
END:VEVENT
END:VCALENDAR