BEGIN:VCALENDAR
VERSION:2.0
PRODID:-//Plone Evento ICS//EN
BEGIN:VEVENT
UID:884bd112f23a43e8b5600f950fda4dac
DTSTAMP:20260420T024929Z
DTSTART:20260421T170000
SUMMARY:Incontro con Simona Lo Iacono
DESCRIPTION:Simona Lo Iacono presenta Joanna degli incanti.\nhttps://www.guanda.it/eventi/incontro-con-simona-lo-iacono-13
LOCATION:Circolo Unione - Circolo Unione<br>Piazza Duomo 5 - 96011 Augusta (SR)
URL:https://www.guanda.it/eventi/incontro-con-simona-lo-iacono-13
END:VEVENT
END:VCALENDAR