BEGIN:VCALENDAR
VERSION:2.0
PRODID:-//Plone Evento ICS//EN
BEGIN:VEVENT
UID:3ac68bf3e3e340a5b48750f740355f96
DTSTAMP:20260422T113953Z
DTSTART:20260508T173000
SUMMARY:Incontro con Simona Lo Iacono
DESCRIPTION:Simona Lo Iacono presenta Joanna degli incanti in dialogo con Dario Stazzone. In collaborazione con Società Dante Alighieri.\nhttps://www.guanda.it/eventi/incontro-con-simona-lo-iacono-14
LOCATION:Librerie Cavallotto Ubik - Librerie Cavallotto Ubik<br>Corso Sicilia 91 - 95131 Catania (CT)
URL:https://www.guanda.it/eventi/incontro-con-simona-lo-iacono-14
END:VEVENT
END:VCALENDAR