BEGIN:VCALENDAR
VERSION:2.0
PRODID:-//Plone Evento ICS//EN
BEGIN:VEVENT
UID:48077b50b0954583b50dd6b42c977ea0
DTSTAMP:20260420T024837Z
DTSTART:20260503T170000
SUMMARY:Incontro con Simona Lo Iacono
DESCRIPTION:Simona Lo Iacono presenta Joanna degli incanti.\nhttps://www.guanda.it/eventi/incontro-con-simona-lo-iacono-18
LOCATION:Biblioteca Provinciale dei Cappuccini di Messina - Biblioteca Provinciale dei Cappuccini di Messina<br>Via delle Mura 1 - 98121 Messina (ME)
URL:https://www.guanda.it/eventi/incontro-con-simona-lo-iacono-18
END:VEVENT
END:VCALENDAR