BEGIN:VCALENDAR
VERSION:2.0
PRODID:-//Plone Evento ICS//EN
BEGIN:VEVENT
UID:f1631eba5c9c4fbd94cd92cdd1121f1c
DTSTAMP:20260420T023938Z
DTSTART:20260504T183000
SUMMARY:Incontro con Simona Lo Iacono
DESCRIPTION:Simona Lo Iacono presenta Joanna degli incanti in dialogo con Stefania Auci.\nhttps://www.guanda.it/eventi/incontro-con-simona-lo-iacono-19
LOCATION:Modusvivendi S.r.l. Libreria - Modusvivendi S.r.l. Libreria<br>Via Quintino Sella 79 - 90139 Palermo (PA)
URL:https://www.guanda.it/eventi/incontro-con-simona-lo-iacono-19
END:VEVENT
END:VCALENDAR