BEGIN:VCALENDAR
VERSION:2.0
PRODID:-//Plone Evento ICS//EN
BEGIN:VEVENT
UID:7cfdb7eae1cb4bfca4537ff683b9345d
DTSTAMP:20260425T114720Z
DTSTART:20260510T173000
SUMMARY:Incontro con Simona Lo Iacono
DESCRIPTION:Presentazione teatralizzata del nuovo romanzo Joanna degli incanti di Simona Lo Iacono.Testi di Simona Lo IaconoRegia di Alfredo MauceriInfo e prenotazioni: 3285326600\nhttps://www.guanda.it/eventi/incontro-con-simona-lo-iacono-22
LOCATION:Teatro dei pupi - Siracusa - Teatro dei pupi - Siracusa<br>Via della Giudecca 20 - 96100 Siracusa (SR)
URL:https://www.guanda.it/eventi/incontro-con-simona-lo-iacono-22
END:VEVENT
END:VCALENDAR